BEGIN:VCALENDAR
VERSION:2.0
PRODID:-//SRG NSW - ECPv6.15.20//NONSGML v1.0//EN
CALSCALE:GREGORIAN
METHOD:PUBLISH
X-WR-CALNAME:SRG NSW
X-ORIGINAL-URL:https://srg-nsw.de
X-WR-CALDESC:Veranstaltungen für SRG NSW
REFRESH-INTERVAL;VALUE=DURATION:PT1H
X-Robots-Tag:noindex
X-PUBLISHED-TTL:PT1H
BEGIN:VTIMEZONE
TZID:Europe/Berlin
BEGIN:DAYLIGHT
TZOFFSETFROM:+0100
TZOFFSETTO:+0200
TZNAME:CEST
DTSTART:20240331T010000
END:DAYLIGHT
BEGIN:STANDARD
TZOFFSETFROM:+0200
TZOFFSETTO:+0100
TZNAME:CET
DTSTART:20241027T010000
END:STANDARD
BEGIN:DAYLIGHT
TZOFFSETFROM:+0100
TZOFFSETTO:+0200
TZNAME:CEST
DTSTART:20250330T010000
END:DAYLIGHT
BEGIN:STANDARD
TZOFFSETFROM:+0200
TZOFFSETTO:+0100
TZNAME:CET
DTSTART:20251026T010000
END:STANDARD
BEGIN:DAYLIGHT
TZOFFSETFROM:+0100
TZOFFSETTO:+0200
TZNAME:CEST
DTSTART:20260329T010000
END:DAYLIGHT
BEGIN:STANDARD
TZOFFSETFROM:+0200
TZOFFSETTO:+0100
TZNAME:CET
DTSTART:20261025T010000
END:STANDARD
BEGIN:DAYLIGHT
TZOFFSETFROM:+0100
TZOFFSETTO:+0200
TZNAME:CEST
DTSTART:20270328T010000
END:DAYLIGHT
BEGIN:STANDARD
TZOFFSETFROM:+0200
TZOFFSETTO:+0100
TZNAME:CET
DTSTART:20271031T010000
END:STANDARD
END:VTIMEZONE
BEGIN:VEVENT
DTSTART;TZID=Europe/Berlin:20260415T193000
DTEND;TZID=Europe/Berlin:20260415T210000
DTSTAMP:20260420T131914
CREATED:20251124T203205Z
LAST-MODIFIED:20251124T203213Z
UID:3153-1776281400-1776286800@srg-nsw.de
SUMMARY:Schiedsrichterschulung
DESCRIPTION:
URL:https://srg-nsw.de/event/schiedsrichterschulung-3/
LOCATION:Sportheim Glatten\, Riedstraße 2\, Glatten\, Baden-Württemberg\, 72293\, Deutschland
END:VEVENT
BEGIN:VEVENT
DTSTART;TZID=Europe/Berlin:20260311T193000
DTEND;TZID=Europe/Berlin:20260311T210000
DTSTAMP:20260420T131914
CREATED:20251124T201808Z
LAST-MODIFIED:20251124T201816Z
UID:3151-1773257400-1773262800@srg-nsw.de
SUMMARY:Schiedsrichterschulung
DESCRIPTION:
URL:https://srg-nsw.de/event/schiedsrichterschulung-2/
LOCATION:Sportheim Glatten\, Riedstraße 2\, Glatten\, Baden-Württemberg\, 72293\, Deutschland
END:VEVENT
BEGIN:VEVENT
DTSTART;TZID=Europe/Berlin:20260128T193000
DTEND;TZID=Europe/Berlin:20260128T210000
DTSTAMP:20260420T131914
CREATED:20251124T201530Z
LAST-MODIFIED:20251124T201539Z
UID:3149-1769628600-1769634000@srg-nsw.de
SUMMARY:Schiedsrichterschulung
DESCRIPTION:
URL:https://srg-nsw.de/event/schiedsrichterschulung/
LOCATION:Sportheim Glatten\, Riedstraße 2\, Glatten\, Baden-Württemberg\, 72293\, Deutschland
END:VEVENT
BEGIN:VEVENT
DTSTART;TZID=Europe/Berlin:20251203T193000
DTEND;TZID=Europe/Berlin:20251203T210000
DTSTAMP:20260420T131914
CREATED:20241226T215952Z
LAST-MODIFIED:20241226T215954Z
UID:2629-1764790200-1764795600@srg-nsw.de
SUMMARY:Schulung
DESCRIPTION:
URL:https://srg-nsw.de/event/schulung-17/
LOCATION:Sportheim Glatten\, Riedstraße 2\, Glatten\, Baden-Württemberg\, 72293\, Deutschland
END:VEVENT
BEGIN:VEVENT
DTSTART;TZID=Europe/Berlin:20251029T193000
DTEND;TZID=Europe/Berlin:20251029T210000
DTSTAMP:20260420T131914
CREATED:20241226T215908Z
LAST-MODIFIED:20241226T215910Z
UID:2627-1761766200-1761771600@srg-nsw.de
SUMMARY:Schulung
DESCRIPTION:
URL:https://srg-nsw.de/event/schulung-16/
LOCATION:Sportheim Glatten\, Riedstraße 2\, Glatten\, Baden-Württemberg\, 72293\, Deutschland
END:VEVENT
BEGIN:VEVENT
DTSTART;TZID=Europe/Berlin:20250910T193000
DTEND;TZID=Europe/Berlin:20250910T210000
DTSTAMP:20260420T131914
CREATED:20241226T215814Z
LAST-MODIFIED:20241226T215816Z
UID:2625-1757532600-1757538000@srg-nsw.de
SUMMARY:Schulung
DESCRIPTION:
URL:https://srg-nsw.de/event/schulung-15/
LOCATION:Sportheim Glatten\, Riedstraße 2\, Glatten\, Baden-Württemberg\, 72293\, Deutschland
END:VEVENT
BEGIN:VEVENT
DTSTART;TZID=Europe/Berlin:20250726T130000
DTEND;TZID=Europe/Berlin:20250726T180000
DTSTAMP:20260420T131914
CREATED:20250624T205545Z
LAST-MODIFIED:20250624T205552Z
UID:2792-1753534800-1753552800@srg-nsw.de
SUMMARY:SRG Grillfest mit gemeinsamer Wanderung
DESCRIPTION:Grillfest der Schiedsrichtergruppe Nördlicher Schwarzwald\, organisiert vom Förderverein \n\n\n\nAnmeldung per Mail an: fv-srgnsw@outlook.com
URL:https://srg-nsw.de/event/srg-grillfest-mit-gemeinsamer-wanderung/
LOCATION:Wanderparkplatz Sigmarswangen\, Aistaiger Str\, Sigmarswangen\, 72172\, Germany
END:VEVENT
BEGIN:VEVENT
DTSTART;TZID=Europe/Berlin:20250702T193000
DTEND;TZID=Europe/Berlin:20250702T210000
DTSTAMP:20260420T131914
CREATED:20241226T215723Z
LAST-MODIFIED:20241226T215725Z
UID:2623-1751484600-1751490000@srg-nsw.de
SUMMARY:Schulung
DESCRIPTION:
URL:https://srg-nsw.de/event/schulung-14/
LOCATION:Sportheim Glatten\, Riedstraße 2\, Glatten\, Baden-Württemberg\, 72293\, Deutschland
END:VEVENT
BEGIN:VEVENT
DTSTART;TZID=Europe/Berlin:20250521T193000
DTEND;TZID=Europe/Berlin:20250521T210000
DTSTAMP:20260420T131914
CREATED:20241226T215523Z
LAST-MODIFIED:20241226T215526Z
UID:2621-1747855800-1747861200@srg-nsw.de
SUMMARY:Schulung
DESCRIPTION:
URL:https://srg-nsw.de/event/schulung-13/
LOCATION:Sportheim Glatten\, Riedstraße 2\, Glatten\, Baden-Württemberg\, 72293\, Deutschland
END:VEVENT
BEGIN:VEVENT
DTSTART;TZID=Europe/Berlin:20250519T193000
DTEND;TZID=Europe/Berlin:20250519T210000
DTSTAMP:20260420T131914
CREATED:20250415T192543Z
LAST-MODIFIED:20250415T192545Z
UID:2755-1747683000-1747688400@srg-nsw.de
SUMMARY:Jung-SR Schulung
DESCRIPTION:
URL:https://srg-nsw.de/event/jung-sr-schulung/
LOCATION:Sportheim Egenhausen\, Altensteiger Str. 70\, Egenhausen\, 72227\, Germany
END:VEVENT
END:VCALENDAR